BEGIN:VCALENDAR
VERSION:2.0
PRODID:-//Biblioteca Virtual - Cuenca Rio Dipilto - ECPv6.15.20//NONSGML v1.0//EN
CALSCALE:GREGORIAN
METHOD:PUBLISH
X-WR-CALNAME:Biblioteca Virtual - Cuenca Rio Dipilto
X-ORIGINAL-URL:https://bibliotecacuencadipilto.com
X-WR-CALDESC:Eventos para Biblioteca Virtual - Cuenca Rio Dipilto
REFRESH-INTERVAL;VALUE=DURATION:PT1H
X-Robots-Tag:noindex
X-PUBLISHED-TTL:PT1H
BEGIN:VTIMEZONE
TZID:UTC
BEGIN:STANDARD
TZOFFSETFROM:+0000
TZOFFSETTO:+0000
TZNAME:UTC
DTSTART:20200101T000000
END:STANDARD
END:VTIMEZONE
BEGIN:VEVENT
DTSTART;VALUE=DATE:20211217
DTEND;VALUE=DATE:20211218
DTSTAMP:20260424T121513
CREATED:20211124T210834Z
LAST-MODIFIED:20211124T212235Z
UID:2560-1639699200-1639785599@bibliotecacuencadipilto.com
SUMMARY:Seminarios Técnicos sobre la Cuenca del Río Dipilto
DESCRIPTION:
URL:https://bibliotecacuencadipilto.com/event/seminarios-tecnicos-sobre-la-cuenca-del-rio-dipilto/
LOCATION:Universidad Martin Lutero Ocotal.\, Campus UML\, Ocotal\, Nueva Segovia\, Nicaragua
ATTACH;FMTTYPE=image/png:https://bibliotecacuencadipilto.com/wp-content/uploads/2021/11/cuenca-png.png
ORGANIZER;CN="Universidad Mart%C3%ADn Lutero":MAILTO:cinv.ocotal0201@uml.edu.ni
END:VEVENT
BEGIN:VEVENT
DTSTART;TZID=UTC:20211216T083000
DTEND;TZID=UTC:20211216T153000
DTSTAMP:20260424T121513
CREATED:20211124T210240Z
LAST-MODIFIED:20211124T210426Z
UID:2564-1639643400-1639668600@bibliotecacuencadipilto.com
SUMMARY:Taller:  Elaboración de notas Informativas y manejo de redes sociales.
DESCRIPTION:
URL:https://bibliotecacuencadipilto.com/event/taller-elaboracion-de-notas-informativas-y-manejo-de-redes-sociales/
LOCATION:Universidad Martin Lutero Ocotal.\, Campus UML\, Ocotal\, Nueva Segovia\, Nicaragua
ATTACH;FMTTYPE=image/jpeg:https://bibliotecacuencadipilto.com/wp-content/uploads/2021/11/periodismo.jpg
END:VEVENT
BEGIN:VEVENT
DTSTART;TZID=UTC:20211125T083000
DTEND;TZID=UTC:20211125T140000
DTSTAMP:20260424T121513
CREATED:20211124T205955Z
LAST-MODIFIED:20211124T210112Z
UID:2555-1637829000-1637848800@bibliotecacuencadipilto.com
SUMMARY:Elaboración de POA de micro cuencas Dipilto
DESCRIPTION:
URL:https://bibliotecacuencadipilto.com/event/elaboracion-de-poa-de-micro-cuencas-dipilto/
LOCATION:RESTAURANTE PINAR DEL RIO DIPILTO\, DIPILTO NUEVO\, Nueva Segovia\, Nicaragua
ATTACH;FMTTYPE=image/jpeg:https://bibliotecacuencadipilto.com/wp-content/uploads/2021/10/cf286d11-b1a6-4319-8667-18501f8ff930.jpg
END:VEVENT
BEGIN:VEVENT
DTSTART;TZID=UTC:20211124T080000
DTEND;TZID=UTC:20211124T160000
DTSTAMP:20260424T121513
CREATED:20211124T203909Z
LAST-MODIFIED:20211124T204044Z
UID:2556-1637740800-1637769600@bibliotecacuencadipilto.com
SUMMARY:Taller Biblioteca Virtual Cuenca Dipilto
DESCRIPTION:Lanzamiento del Fondo Concursable con CAPS\, Comités de Micro Cuencas y Cooperativas.
URL:https://bibliotecacuencadipilto.com/event/taller-biblioteca-virtual-cuenca-dipilto/
LOCATION:Universidad Martin Lutero Ocotal.\, Campus UML\, Ocotal\, Nueva Segovia\, Nicaragua
ATTACH;FMTTYPE=image/jpeg:https://bibliotecacuencadipilto.com/wp-content/uploads/2021/11/descarga-2.jpg
END:VEVENT
END:VCALENDAR